BEGIN:VCALENDAR
VERSION:2.0
PRODID:-//eventon.com NONSGML v1.0//EN
CALSCALE:GREGORIAN
METHOD:PUBLISH
BEGIN:VEVENT
UID:69ec17a2db270
DTSTAMP:20260425T012346Z
DTSTART:20231213T170000Z
DTEND:20231213T210000Z
LOCATION:VeranstaltungsZentrum Kiel Faluner Weg 2\,  24109 Kiel
SUMMARY:Friedenssymposium Kiel
DESCRIPTION:Nahostkonflikt\,  Ukrainekrieg und Weltkrise sind Begriffe\,  d
 ie heute unseren Alltag prägen. Durch die Entflammung des Ukraine Konflikt
 s hat sich die gesellschaftliche und politische Situation in Deutschland\, 
  aber auch in anderen Teilen der Welt schlagartig geändert und die Notwend
 igkeit\,  Frieden zu schaffen ist wieder in das öffentliche Bewusstsein ge
 rückt. Gerade in[..]\nhttps://ahmadiyyajugend.de/events/friedenssymposium-
 kiel/
URL:https://ahmadiyyajugend.de/events/friedenssymposium-kiel/
END:VEVENT
END:VCALENDAR