BEGIN:VCALENDAR
VERSION:2.0
PRODID:-//eventon.com NONSGML v1.0//EN
CALSCALE:GREGORIAN
METHOD:PUBLISH
BEGIN:VEVENT
UID:69e5feac7caa2
DTSTAMP:20260420T102340Z
DTSTART:20220422T050000Z
DTEND:20220422T070000Z
LOCATION:https://us02web.zoom.us/j/82640898562?pwd=MERYYjgyYjI1UHN1MlNiWnVNL0lyQT09
SUMMARY:Islam & Coffee in Viersen
DESCRIPTION:Thema: Hungern für Gott? &#8211; Wieso fasten eigentlich Musli
 me? Sie möchten auch in Zeiten von Pandemie und den damit verbundenen Eins
 chränkungen den interreligiösen und interkulturellen Austausch pflegen? D
 ann nehmen Sie an unserem regelmäßigen &amp; interaktiven Event &#8222;Is
 lam &amp; Coffee&#8220; teil. Diskutieren Sie in entspannter\,  kleiner Run
 de über Themen\,  die den[..]\nhttps://ahmadiyyajugend.de/events/islam-cof
 fee-in-viersen/var/event_access
URL:https://ahmadiyyajugend.de/events/islam-coffee-in-viersen/var/event_access
END:VEVENT
END:VCALENDAR