BEGIN:VCALENDAR
VERSION:2.0
PRODID:-//eventon.com NONSGML v1.0//EN
CALSCALE:GREGORIAN
METHOD:PUBLISH
BEGIN:VEVENT
UID:69ecba203aec6
DTSTAMP:20260425T125704Z
DTSTART:20220223T060000Z
DTEND:20220223T080000Z
LOCATION:https://us02web.zoom.us/j/88081397810?pwd=eWkySmx3QnNvWDdodlhoMFEwOVZQUT09
SUMMARY:Islam & Coffee in Heusenstamm
DESCRIPTION:Thema: Hate Speech im Netz &#8211; wie gehen wir damit um? Sie 
 möchten auch in Zeiten von Pandemie und den damit verbundenen Einschränku
 ngen den interreligiösen und interkulturellen Austausch pflegen? Dann nehm
 en Sie an unserem regelmäßigen &amp; interaktiven Event &#8222;Islam &amp
 ; Coffee&#8220; teil. Diskutieren Sie in entspannter\,  kleiner Runde über
  Themen\, [..]\nhttps://ahmadiyyajugend.de/events/islam-coffee-in-heusensta
 mm/var/event_access
URL:https://ahmadiyyajugend.de/events/islam-coffee-in-heusenstamm/var/event_access
END:VEVENT
END:VCALENDAR