BEGIN:VCALENDAR
VERSION:2.0
PRODID:-//eventon.com NONSGML v1.0//EN
CALSCALE:GREGORIAN
METHOD:PUBLISH
BEGIN:VEVENT
UID:69e7498c7b3c6
DTSTAMP:20260421T095524Z
DTSTART:20220305T040000Z
DTEND:20220305T060000Z
LOCATION:https://us02web.zoom.us/j/82035807777?pwd=ZGRnRmJzWTlqeWVmcE9pSzE1THIxZz09
SUMMARY:Islam & Coffee in Erzhausen
DESCRIPTION:Thema: Pandemien\,  Katastrophen und Leid –Wieso lässt Gott 
 all das zu? Sie möchten auch in Zeiten von Pandemie und den damit verbunde
 nen Einschränkungen den interreligiösen und interkulturellen Austausch pf
 legen? Dann nehmen Sie an unserem regelmäßigen &amp; interaktiven Event &
 #8222;Islam &amp; Coffee&#8220; teil. Diskutieren Sie in entspannter\,  kle
 iner Runde über Themen\, [..]\nhttps://ahmadiyyajugend.de/events/islam-cof
 fee-in-erzhausen/var/event_access
URL:https://ahmadiyyajugend.de/events/islam-coffee-in-erzhausen/var/event_access
END:VEVENT
END:VCALENDAR