BEGIN:VCALENDAR
VERSION:2.0
PRODID:-//eventon.com NONSGML v1.0//EN
CALSCALE:GREGORIAN
METHOD:PUBLISH
BEGIN:VEVENT
UID:69e734d4738ce
DTSTAMP:20260421T082700Z
DTSTART:20220127T060000Z
DTEND:20220127T080000Z
LOCATION:https://us02web.zoom.us/j/88427192466?pwd=QURHTUxoWFJrNGZGakhFaGVwTHNMZz09
SUMMARY:Islam & Coffee in Eppelheim
DESCRIPTION:Thema: Pandemien\,  Katastrophen und Leid –Wieso lässt Gott 
 all das zu? Sie möchten auch in Zeiten von Pandemie und den damit verbunde
 nen Einschränkungen den interreligiösen und interkulturellen Austausch pf
 legen? Dann nehmen Sie an unserem regelmäßigen &amp; interaktiven Event &
 #8222;Islam &amp; Coffee&#8220; teil. Diskutieren Sie in entspannter\,  kle
 iner Runde über Themen\, [..]\nhttps://ahmadiyyajugend.de/events/islam-cof
 fee-in-eppelheim-4/var/event_access
URL:https://ahmadiyyajugend.de/events/islam-coffee-in-eppelheim-4/var/event_access
END:VEVENT
END:VCALENDAR