BEGIN:VCALENDAR
VERSION:2.0
PRODID:-//eventon.com NONSGML v1.0//EN
CALSCALE:GREGORIAN
METHOD:PUBLISH
BEGIN:VEVENT
UID:69e733ad2ffcb
DTSTAMP:20260421T082205Z
DTSTART:20220120T053000Z
DTEND:20220120T073000Z
LOCATION:Veranstaltungsort Heidelberg Eppelheim Gebetszentrum
SUMMARY:Islam & Coffee in Heidelberg
DESCRIPTION:Thema: Migrationskrise &#8211; Wie die Missachtung von Menschen
 rechten globale Flüchtlingsströme mobilisiert Sie möchten auch in Zeiten
  von Pandemie und den damit verbundenen Einschränkungen den interreligiös
 en und interkulturellen Austausch pflegen? Dann nehmen Sie an unserem regel
 mäßigen &amp; interaktiven Event &#8222;Islam &amp; Coffee&#8220; teil. D
 iskutieren Sie in entspannter\,  kleiner Runde über Themen\, [..]\nhttps:/
 /ahmadiyyajugend.de/events/islam-coffee-in-heidelberg-2/
URL:https://ahmadiyyajugend.de/events/islam-coffee-in-heidelberg-2/
END:VEVENT
END:VCALENDAR