BEGIN:VCALENDAR
VERSION:2.0
PRODID:-//eventon.com NONSGML v1.0//EN
CALSCALE:GREGORIAN
METHOD:PUBLISH
BEGIN:VEVENT
UID:69ecd87f55162
DTSTAMP:20260425T150639Z
DTSTART:20210731T060000Z
DTEND:20210731T073000Z
LOCATION:https://us02web.zoom.us/j/84479724767?pwd=U1FKRnU2OTJVV0RRelVGNUxaK1h6QT09
SUMMARY:UNI & Cafe` in Freiburg
DESCRIPTION:Thema: Meinungsfreiheit: Wie weit darf sie eigentlich gehen? Si
 e möchten auch in Zeiten von Pandemie und den damit verbundenen Einschrän
 kungen den interreligiösen und interkulturellen Austausch pflegen? Dann ne
 hmen Sie an unserem regelmäßigen Online-Event &#8220; UNI &amp; Cafe´&#8
 220; teil. Diskutieren Sie in entspannter\,  kleiner Runde über Themen\,  
 die den Islam und[..]\nhttps://ahmadiyyajugend.de/events/uni-cafe-in-freibu
 rg/var/event_access
URL:https://ahmadiyyajugend.de/events/uni-cafe-in-freiburg/var/event_access
END:VEVENT
END:VCALENDAR