BEGIN:VCALENDAR
VERSION:2.0
PRODID:-//eventon.com NONSGML v1.0//EN
CALSCALE:GREGORIAN
METHOD:PUBLISH
BEGIN:VEVENT
UID:69e6158cf2265
DTSTAMP:20260420T120116Z
DTSTART:20210715T060000Z
DTEND:20210715T073000Z
LOCATION:https://us02web.zoom.us/j/87986540871?pwd=dkZyTWFCcWxtN09wYjZUbm1ZS3NaQT09
SUMMARY:Islam & Coffee in Esslingen
DESCRIPTION:Thema: Ohne Gerechtigkeit kein Frieden &#8211; wie die UnterdrÃ
 ¼ckung und Benachteiligung von Minderheiten Konflikte fÃ¶rdern Sie mÃ¶chten
  auch in Zeiten von Pandemie und den damit verbundenen EinschrÃ¤nkungen den
  interreligiÃ¶sen und interkulturellen Austausch pflegen? Dann nehmen Sie a
 n unserem regelmÃ¤ÃŸigen Online-Event &#8220; Islam &amp; Coffee&#8220; tei
 l. Diskutieren Sie in entspannter\,  kleiner[..]\nhttps://ahmadiyyajugend.d
 e/events/islam-coffee-in-esslingen-4/var/event_access
URL:https://ahmadiyyajugend.de/events/islam-coffee-in-esslingen-4/var/event_access
END:VEVENT
END:VCALENDAR