BEGIN:VCALENDAR
VERSION:2.0
PRODID:-//eventon.com NONSGML v1.0//EN
CALSCALE:GREGORIAN
METHOD:PUBLISH
BEGIN:VEVENT
UID:69e50dee1fd98
DTSTAMP:20260419T171630Z
DTSTART:20210614T040000Z
DTEND:20210614T070000Z
LOCATION:https://us02web.zoom.us/j/82877562871?pwd=QVZUbFFNYnNHMXM4TXFpK05Tc0dEZz09
SUMMARY:Islam & Coffee in Herborn
DESCRIPTION:Thema: Meinungsfreiheit: Wie weit darf sie eigentlich gehen?tun
 ? Sie möchten auch in Zeiten von Pandemie und den damit verbundenen Einsch
 ränkungen den interreligiösen und interkulturellen Austausch pflegen? Dan
 n nehmen Sie an unserem regelmäßigen Online-Event &#8220; Islam &amp; Cof
 fee&#8220; teil. Diskutieren Sie in entspannter\,  kleiner Runde über Them
 en\,  die den Islam und[..]\nhttps://ahmadiyyajugend.de/events/islam-coffee
 -in-herborn/var/event_access
URL:https://ahmadiyyajugend.de/events/islam-coffee-in-herborn/var/event_access
END:VEVENT
END:VCALENDAR