BEGIN:VCALENDAR
VERSION:2.0
PRODID:-//eventon.com NONSGML v1.0//EN
CALSCALE:GREGORIAN
METHOD:PUBLISH
BEGIN:VEVENT
UID:69eb92109f64b
DTSTAMP:20260424T155352Z
DTSTART:20210609T043000Z
DTEND:20210609T070000Z
LOCATION:https://us02web.zoom.us/j/81352985888?pwd=ZHFJclk2UkgrMmJISVgrdzdLKzlHZz09
SUMMARY:Islam & Coffee in Kassel
DESCRIPTION:Thema: Ohne Gerechtigkeit kein Frieden Sie möchten auch in Zei
 ten von Pandemie und den damit verbundenen Einschränkungen den interreligi
 ösen und interkulturellen Austausch pflegen? Dann nehmen Sie an unserem re
 gelmäßigen Online-Event &#8220; Islam &amp; Coffee&#8220; teil. Diskutier
 en Sie in entspannter\,  kleiner Runde über Themen\,  die den Islam und di
 e Gesellschaft betreffen.[..]\nhttps://ahmadiyyajugend.de/events/islam-coff
 ee-in-kassel-2/var/event_access
URL:https://ahmadiyyajugend.de/events/islam-coffee-in-kassel-2/var/event_access
END:VEVENT
END:VCALENDAR